BEGIN:VCALENDAR
VERSION:2.0
PRODID:-//PYVOBJECT//NONSGML Version 0.9.9//EN
X-WR-TIMEZONE:Africa/Johannesburg
BEGIN:VTIMEZONE
TZID:Africa/Johannesburg
BEGIN:STANDARD
DTSTART:20000101T000000
RRULE:FREQ=YEARLY;BYMONTH=1
TZNAME:SAST
TZOFFSETFROM:+0200
TZOFFSETTO:+0200
END:STANDARD
END:VTIMEZONE
BEGIN:VEVENT
UID:20260422T180954Z - 85086@eos-content
DTSTART;TZID=Africa/Johannesburg:20260425T140000
DTEND;TZID=Africa/Johannesburg:20260425T160000
ATTENDEE:MAILTO:jayden@vered.co.za
ATTENDEE:MAILTO:marc@vered.co.za
DESCRIPTION:https://www.vered.co.za/results/residential/for-sale/sandton/da
 infern/apartment/3131098/\n\nView by appointment: Please contact Jayden 07
 6 032 3967\n\nJayden Aaron (0760323967)\n\nMarc Maron (0848808888)
DTSTAMP:20260422T180954Z
LOCATION:Dainfern\, Sandton
SUMMARY:Vered Estates Show Day - RL9970
END:VEVENT
END:VCALENDAR
