BEGIN:VCALENDAR
VERSION:2.0
PRODID:-//PYVOBJECT//NONSGML Version 0.9.9//EN
X-WR-TIMEZONE:Africa/Johannesburg
BEGIN:VTIMEZONE
TZID:Africa/Johannesburg
BEGIN:STANDARD
DTSTART:20000101T000000
RRULE:FREQ=YEARLY;BYMONTH=1
TZNAME:SAST
TZOFFSETFROM:+0200
TZOFFSETTO:+0200
END:STANDARD
END:VTIMEZONE
BEGIN:VEVENT
UID:20260422T131833Z - 86242@eos-content
DTSTART;TZID=Africa/Johannesburg:20260426T140000
DTEND;TZID=Africa/Johannesburg:20260426T160000
ATTENDEE:MAILTO:liesl@vered.co.za
DESCRIPTION:https://www.vered.co.za/results/residential/for-sale/sandton/br
 yanston-east/freehold/3036222/\n\nDevonshire Avenue\, Bryanston\nFollow th
 e pointer boards.\n\nLiesl Bosman (0847771119)
DTSTAMP:20260422T131833Z
LOCATION:Bryanston East\, Sandton
SUMMARY:Vered Estates Show Day - RL9855
END:VEVENT
END:VCALENDAR
