BEGIN:VCALENDAR
VERSION:2.0
PRODID:-//PYVOBJECT//NONSGML Version 0.9.9//EN
X-WR-TIMEZONE:Africa/Johannesburg
BEGIN:VTIMEZONE
TZID:Africa/Johannesburg
BEGIN:STANDARD
DTSTART:20000101T000000
RRULE:FREQ=YEARLY;BYMONTH=1
TZNAME:SAST
TZOFFSETFROM:+0200
TZOFFSETTO:+0200
END:STANDARD
END:VTIMEZONE
BEGIN:VEVENT
UID:20260422T164100Z - 28408@eos-content
DTSTART;TZID=Africa/Johannesburg:20260425T140000
DTEND;TZID=Africa/Johannesburg:20260425T160000
ATTENDEE:MAILTO:marc@vered.co.za
ATTENDEE:MAILTO:jayden@vered.co.za
DESCRIPTION:https://www.vered.co.za/results/residential/for-sale/sandton/cr
 aigavon/duplex/3030756/\n\nTo view please contact: Jayden 076 032 3967\n\n
 Marc Maron (0848808888)\n\nJayden Aaron (0760323967)
DTSTAMP:20260422T164100Z
LOCATION:Craigavon\, Sandton
SUMMARY:Vered Estates Show Day - RL9850
END:VEVENT
END:VCALENDAR
